BEGIN:VCALENDAR
VERSION:2.0
PRODID:-//Castello di Poppi - ECPv6.15.14//NONSGML v1.0//EN
CALSCALE:GREGORIAN
METHOD:PUBLISH
X-ORIGINAL-URL:https://castellodipoppi.it
X-WR-CALDESC:Eventi per Castello di Poppi
REFRESH-INTERVAL;VALUE=DURATION:PT1H
X-Robots-Tag:noindex
X-PUBLISHED-TTL:PT1H
BEGIN:VTIMEZONE
TZID:UTC
BEGIN:STANDARD
TZOFFSETFROM:+0000
TZOFFSETTO:+0000
TZNAME:UTC
DTSTART:20250101T000000
END:STANDARD
END:VTIMEZONE
BEGIN:VEVENT
DTSTART;TZID=UTC:20260705T110000
DTEND;TZID=UTC:20260705T160000
DTSTAMP:20260420T015325
CREATED:20260401T073847Z
LAST-MODIFIED:20260401T105909Z
UID:5986-1783249200-1783267200@castellodipoppi.it
SUMMARY:Tour del Castello di Poppi | 05/07/2026
DESCRIPTION:Festa dello Sport – Poppi				\n					\n				\n		\n				\n				\n									\n				\n				\n		\n		\n				\n									Data: 								\n				\n				\n					\n		\n			Aprile 11\n\n	\n\n	  @  \n\n\n10:00\n\n		\n\n\n\n	\n	  -  \n\n17:00\n\n\n\n	\n				\n				\n				\n		\n				\n									Luogo: 								\n				\n				\n		\n				\n							\n			\n						\n		\n						\n				\n		\n		\n		\n				\n					Descrizione evento				\n				\n				\n					Ingresso LIBERO – Prova lo sport!
URL:https://castellodipoppi.it/evento/tour-del-castello-di-poppi-05-07-2026/
END:VEVENT
BEGIN:VEVENT
DTSTART;TZID=UTC:20260712T110000
DTEND;TZID=UTC:20260712T110000
DTSTAMP:20260420T015325
CREATED:20260401T074008Z
LAST-MODIFIED:20260401T105916Z
UID:5988-1783854000-1783854000@castellodipoppi.it
SUMMARY:Tour del Castello di Poppi | 12/07/2026
DESCRIPTION:Festa dello Sport – Poppi				\n					\n				\n		\n				\n				\n									\n				\n				\n		\n		\n				\n									Data: 								\n				\n				\n					\n		\n			Aprile 11\n\n	\n\n	  @  \n\n\n10:00\n\n		\n\n\n\n	\n	  -  \n\n17:00\n\n\n\n	\n				\n				\n				\n		\n				\n									Luogo: 								\n				\n				\n		\n				\n							\n			\n						\n		\n						\n				\n		\n		\n		\n				\n					Descrizione evento				\n				\n				\n					Ingresso LIBERO – Prova lo sport!
URL:https://castellodipoppi.it/evento/tour-del-castello-di-poppi-12-07-2026/
END:VEVENT
BEGIN:VEVENT
DTSTART;TZID=UTC:20260718T210000
DTEND;TZID=UTC:20260718T210000
DTSTAMP:20260420T015325
CREATED:20260401T074126Z
LAST-MODIFIED:20260401T105921Z
UID:5990-1784408400-1784408400@castellodipoppi.it
SUMMARY:Visita al Buio: il Castello come non lo avete mai visto!
DESCRIPTION:Festa dello Sport – Poppi				\n					\n				\n		\n				\n				\n									\n				\n				\n		\n		\n				\n									Data: 								\n				\n				\n					\n		\n			Aprile 11\n\n	\n\n	  @  \n\n\n10:00\n\n		\n\n\n\n	\n	  -  \n\n17:00\n\n\n\n	\n				\n				\n				\n		\n				\n									Luogo: 								\n				\n				\n		\n				\n							\n			\n						\n		\n						\n				\n		\n		\n		\n				\n					Descrizione evento				\n				\n				\n					Ingresso LIBERO – Prova lo sport!
URL:https://castellodipoppi.it/evento/visita-al-buio-il-castello-come-non-lo-avete-mai-visto/
END:VEVENT
BEGIN:VEVENT
DTSTART;TZID=UTC:20260719T110000
DTEND;TZID=UTC:20260719T110000
DTSTAMP:20260420T015325
CREATED:20260401T074252Z
LAST-MODIFIED:20260401T105953Z
UID:5992-1784458800-1784458800@castellodipoppi.it
SUMMARY:Tour del Castello di Poppi | 19/07/2026
DESCRIPTION:Festa dello Sport – Poppi				\n					\n				\n		\n				\n				\n									\n				\n				\n		\n		\n				\n									Data: 								\n				\n				\n					\n		\n			Aprile 11\n\n	\n\n	  @  \n\n\n10:00\n\n		\n\n\n\n	\n	  -  \n\n17:00\n\n\n\n	\n				\n				\n				\n		\n				\n									Luogo: 								\n				\n				\n		\n				\n							\n			\n						\n		\n						\n				\n		\n		\n		\n				\n					Descrizione evento				\n				\n				\n					Ingresso LIBERO – Prova lo sport!
URL:https://castellodipoppi.it/evento/tour-del-castello-di-poppi-19-07-2026/
END:VEVENT
BEGIN:VEVENT
DTSTART;TZID=UTC:20260725T110000
DTEND;TZID=UTC:20260725T160000
DTSTAMP:20260420T015325
CREATED:20260401T075026Z
LAST-MODIFIED:20260401T110003Z
UID:5994-1784977200-1784995200@castellodipoppi.it
SUMMARY:Tour dal Castello al Borgo | 25/07/2026
DESCRIPTION:Festa dello Sport – Poppi				\n					\n				\n		\n				\n				\n									\n				\n				\n		\n		\n				\n									Data: 								\n				\n				\n					\n		\n			Aprile 11\n\n	\n\n	  @  \n\n\n10:00\n\n		\n\n\n\n	\n	  -  \n\n17:00\n\n\n\n	\n				\n				\n				\n		\n				\n									Luogo: 								\n				\n				\n		\n				\n							\n			\n						\n		\n						\n				\n		\n		\n		\n				\n					Descrizione evento				\n				\n				\n					Ingresso LIBERO – Prova lo sport!
URL:https://castellodipoppi.it/evento/tour-dal-castello-al-borgo-25-07-2026/
END:VEVENT
BEGIN:VEVENT
DTSTART;TZID=UTC:20260726T110000
DTEND;TZID=UTC:20260726T160000
DTSTAMP:20260420T015325
CREATED:20260401T075143Z
LAST-MODIFIED:20260401T110014Z
UID:5996-1785063600-1785081600@castellodipoppi.it
SUMMARY:Tour del Castello di Poppi | 26/07/2026
DESCRIPTION:Festa dello Sport – Poppi				\n					\n				\n		\n				\n				\n									\n				\n				\n		\n		\n				\n									Data: 								\n				\n				\n					\n		\n			Aprile 11\n\n	\n\n	  @  \n\n\n10:00\n\n		\n\n\n\n	\n	  -  \n\n17:00\n\n\n\n	\n				\n				\n				\n		\n				\n									Luogo: 								\n				\n				\n		\n				\n							\n			\n						\n		\n						\n				\n		\n		\n		\n				\n					Descrizione evento				\n				\n				\n					Ingresso LIBERO – Prova lo sport!
URL:https://castellodipoppi.it/evento/tour-del-castello-di-poppi-26-07-2026/
END:VEVENT
BEGIN:VEVENT
DTSTART;TZID=UTC:20260801T160000
DTEND;TZID=UTC:20260801T160000
DTSTAMP:20260420T015325
CREATED:20260401T075336Z
LAST-MODIFIED:20260401T110019Z
UID:5999-1785600000-1785600000@castellodipoppi.it
SUMMARY:Tour dal Castello al Borgo | 01/08/2026
DESCRIPTION:Festa dello Sport – Poppi				\n					\n				\n		\n				\n				\n									\n				\n				\n		\n		\n				\n									Data: 								\n				\n				\n					\n		\n			Aprile 11\n\n	\n\n	  @  \n\n\n10:00\n\n		\n\n\n\n	\n	  -  \n\n17:00\n\n\n\n	\n				\n				\n				\n		\n				\n									Luogo: 								\n				\n				\n		\n				\n							\n			\n						\n		\n						\n				\n		\n		\n		\n				\n					Descrizione evento				\n				\n				\n					Ingresso LIBERO – Prova lo sport!
URL:https://castellodipoppi.it/evento/tour-dal-castello-al-borgo-01-08-2026/
END:VEVENT
BEGIN:VEVENT
DTSTART;TZID=UTC:20260802T110000
DTEND;TZID=UTC:20260802T160000
DTSTAMP:20260420T015325
CREATED:20260401T075605Z
LAST-MODIFIED:20260401T110101Z
UID:6001-1785668400-1785686400@castellodipoppi.it
SUMMARY:Tour del Castello di Poppi | 02/08/2026
DESCRIPTION:Festa dello Sport – Poppi				\n					\n				\n		\n				\n				\n									\n				\n				\n		\n		\n				\n									Data: 								\n				\n				\n					\n		\n			Aprile 11\n\n	\n\n	  @  \n\n\n10:00\n\n		\n\n\n\n	\n	  -  \n\n17:00\n\n\n\n	\n				\n				\n				\n		\n				\n									Luogo: 								\n				\n				\n		\n				\n							\n			\n						\n		\n						\n				\n		\n		\n		\n				\n					Descrizione evento				\n				\n				\n					Ingresso LIBERO – Prova lo sport!
URL:https://castellodipoppi.it/evento/tour-del-castello-di-poppi-02-08-2026/
END:VEVENT
BEGIN:VEVENT
DTSTART;TZID=UTC:20260809T110000
DTEND;TZID=UTC:20260809T160000
DTSTAMP:20260420T015325
CREATED:20260401T075934Z
LAST-MODIFIED:20260401T110111Z
UID:6003-1786273200-1786291200@castellodipoppi.it
SUMMARY:Tour del Castello di Poppi | 09/08/2026
DESCRIPTION:Festa dello Sport – Poppi				\n					\n				\n		\n				\n				\n									\n				\n				\n		\n		\n				\n									Data: 								\n				\n				\n					\n		\n			Aprile 11\n\n	\n\n	  @  \n\n\n10:00\n\n		\n\n\n\n	\n	  -  \n\n17:00\n\n\n\n	\n				\n				\n				\n		\n				\n									Luogo: 								\n				\n				\n		\n				\n							\n			\n						\n		\n						\n				\n		\n		\n		\n				\n					Descrizione evento				\n				\n				\n					Ingresso LIBERO – Prova lo sport!
URL:https://castellodipoppi.it/evento/tour-del-castello-di-poppi-09-08-2026/
END:VEVENT
BEGIN:VEVENT
DTSTART;TZID=UTC:20260814T210000
DTEND;TZID=UTC:20260814T210000
DTSTAMP:20260420T015325
CREATED:20260401T080552Z
LAST-MODIFIED:20260401T110117Z
UID:6005-1786741200-1786741200@castellodipoppi.it
SUMMARY:Il Castello delle Leggende | 14/08/2026
DESCRIPTION:Festa dello Sport – Poppi				\n					\n				\n		\n				\n				\n									\n				\n				\n		\n		\n				\n									Data: 								\n				\n				\n					\n		\n			Aprile 11\n\n	\n\n	  @  \n\n\n10:00\n\n		\n\n\n\n	\n	  -  \n\n17:00\n\n\n\n	\n				\n				\n				\n		\n				\n									Luogo: 								\n				\n				\n		\n				\n							\n			\n						\n		\n						\n				\n		\n		\n		\n				\n					Descrizione evento				\n				\n				\n					Ingresso LIBERO – Prova lo sport!
URL:https://castellodipoppi.it/evento/il-castello-delle-leggende-14-08-2026/
END:VEVENT
BEGIN:VEVENT
DTSTART;TZID=UTC:20260815T110000
DTEND;TZID=UTC:20260815T160000
DTSTAMP:20260420T015325
CREATED:20260401T080702Z
LAST-MODIFIED:20260401T110121Z
UID:6007-1786791600-1786809600@castellodipoppi.it
SUMMARY:Al Castello con Dante | 15/08/2026
DESCRIPTION:Festa dello Sport – Poppi				\n					\n				\n		\n				\n				\n									\n				\n				\n		\n		\n				\n									Data: 								\n				\n				\n					\n		\n			Aprile 11\n\n	\n\n	  @  \n\n\n10:00\n\n		\n\n\n\n	\n	  -  \n\n17:00\n\n\n\n	\n				\n				\n				\n		\n				\n									Luogo: 								\n				\n				\n		\n				\n							\n			\n						\n		\n						\n				\n		\n		\n		\n				\n					Descrizione evento				\n				\n				\n					Ingresso LIBERO – Prova lo sport!
URL:https://castellodipoppi.it/evento/al-castello-con-dante-15-08-2026/
END:VEVENT
BEGIN:VEVENT
DTSTART;TZID=UTC:20260816T110000
DTEND;TZID=UTC:20260816T160000
DTSTAMP:20260420T015325
CREATED:20260401T080900Z
LAST-MODIFIED:20260401T110127Z
UID:6009-1786878000-1786896000@castellodipoppi.it
SUMMARY:Tour del Castello di Poppi | 16/08/2026
DESCRIPTION:Festa dello Sport – Poppi				\n					\n				\n		\n				\n				\n									\n				\n				\n		\n		\n				\n									Data: 								\n				\n				\n					\n		\n			Aprile 11\n\n	\n\n	  @  \n\n\n10:00\n\n		\n\n\n\n	\n	  -  \n\n17:00\n\n\n\n	\n				\n				\n				\n		\n				\n									Luogo: 								\n				\n				\n		\n				\n							\n			\n						\n		\n						\n				\n		\n		\n		\n				\n					Descrizione evento				\n				\n				\n					Ingresso LIBERO – Prova lo sport!
URL:https://castellodipoppi.it/evento/tour-del-castello-di-poppi-16-08-2026/
END:VEVENT
BEGIN:VEVENT
DTSTART;TZID=UTC:20260822T160000
DTEND;TZID=UTC:20260822T160000
DTSTAMP:20260420T015325
CREATED:20260401T081006Z
LAST-MODIFIED:20260401T110135Z
UID:6011-1787414400-1787414400@castellodipoppi.it
SUMMARY:Tour dal Castello al Borgo | 22/08/2026
DESCRIPTION:Festa dello Sport – Poppi				\n					\n				\n		\n				\n				\n									\n				\n				\n		\n		\n				\n									Data: 								\n				\n				\n					\n		\n			Aprile 11\n\n	\n\n	  @  \n\n\n10:00\n\n		\n\n\n\n	\n	  -  \n\n17:00\n\n\n\n	\n				\n				\n				\n		\n				\n									Luogo: 								\n				\n				\n		\n				\n							\n			\n						\n		\n						\n				\n		\n		\n		\n				\n					Descrizione evento				\n				\n				\n					Ingresso LIBERO – Prova lo sport!
URL:https://castellodipoppi.it/evento/tour-dal-castello-al-borgo-22-08-2026/
END:VEVENT
BEGIN:VEVENT
DTSTART;TZID=UTC:20260823T110000
DTEND;TZID=UTC:20260823T160000
DTSTAMP:20260420T015325
CREATED:20260401T081112Z
LAST-MODIFIED:20260401T110140Z
UID:6013-1787482800-1787500800@castellodipoppi.it
SUMMARY:Tour del Castello di Poppi | 23/08/2026
DESCRIPTION:Festa dello Sport – Poppi				\n					\n				\n		\n				\n				\n									\n				\n				\n		\n		\n				\n									Data: 								\n				\n				\n					\n		\n			Aprile 11\n\n	\n\n	  @  \n\n\n10:00\n\n		\n\n\n\n	\n	  -  \n\n17:00\n\n\n\n	\n				\n				\n				\n		\n				\n									Luogo: 								\n				\n				\n		\n				\n							\n			\n						\n		\n						\n				\n		\n		\n		\n				\n					Descrizione evento				\n				\n				\n					Ingresso LIBERO – Prova lo sport!
URL:https://castellodipoppi.it/evento/tour-del-castello-di-poppi-23-08-2026/
END:VEVENT
BEGIN:VEVENT
DTSTART;TZID=UTC:20260830T110000
DTEND;TZID=UTC:20260830T160000
DTSTAMP:20260420T015325
CREATED:20260401T081208Z
LAST-MODIFIED:20260401T110144Z
UID:6015-1788087600-1788105600@castellodipoppi.it
SUMMARY:Tour del Castello di Poppi | 30/08/2026
DESCRIPTION:Festa dello Sport – Poppi				\n					\n				\n		\n				\n				\n									\n				\n				\n		\n		\n				\n									Data: 								\n				\n				\n					\n		\n			Aprile 11\n\n	\n\n	  @  \n\n\n10:00\n\n		\n\n\n\n	\n	  -  \n\n17:00\n\n\n\n	\n				\n				\n				\n		\n				\n									Luogo: 								\n				\n				\n		\n				\n							\n			\n						\n		\n						\n				\n		\n		\n		\n				\n					Descrizione evento				\n				\n				\n					Ingresso LIBERO – Prova lo sport!
URL:https://castellodipoppi.it/evento/tour-del-castello-di-poppi-30-08-2026/
END:VEVENT
END:VCALENDAR