BEGIN:VCALENDAR
VERSION:2.0
PRODID:-//Castello di Poppi - ECPv6.15.14//NONSGML v1.0//EN
CALSCALE:GREGORIAN
METHOD:PUBLISH
X-WR-CALNAME:Castello di Poppi
X-ORIGINAL-URL:https://castellodipoppi.it
X-WR-CALDESC:Eventi per Castello di Poppi
REFRESH-INTERVAL;VALUE=DURATION:PT1H
X-Robots-Tag:noindex
X-PUBLISHED-TTL:PT1H
BEGIN:VTIMEZONE
TZID:UTC
BEGIN:STANDARD
TZOFFSETFROM:+0000
TZOFFSETTO:+0000
TZNAME:UTC
DTSTART:20250101T000000
END:STANDARD
END:VTIMEZONE
BEGIN:VEVENT
DTSTART;TZID=UTC:20260411T100000
DTEND;TZID=UTC:20260411T170000
DTSTAMP:20260420T070646
CREATED:20260401T082223Z
LAST-MODIFIED:20260401T105710Z
UID:6022-1775901600-1775926800@castellodipoppi.it
SUMMARY:Festa dello Sport - Poppi
DESCRIPTION:Tour dal Castello al Borgo | 01/08/2026				\n					\n				\n		\n				\n		\n		\n				\n									Data: 								\n				\n				\n					\n		\n			Agosto 1\n\n	\n\n	  @  \n\n\n16:00\n\n			\n				\n				\n				\n		\n				\n									Luogo: 								\n				\n				\n		\n				\n							\n			\n						\n		\n						\n				\n		\n		\n		\n				\n					Descrizione evento				\n				\n				\n					Visita guidata ore 16:00\nCosti: € 13\,00 adulti – € 7 bambini 6 – 12 anni\, incluso biglietto di ingresso.
URL:https://castellodipoppi.it/evento/festa-dello-sport-poppi/
ATTACH;FMTTYPE=application/pdf:https://castellodipoppi.it/wp-content/uploads/2026/04/Locandina-Festa-dello-sport-.pdf
END:VEVENT
BEGIN:VEVENT
DTSTART;TZID=UTC:20260406T110000
DTEND;TZID=UTC:20260406T160000
DTSTAMP:20260420T070646
CREATED:20260401T072250Z
LAST-MODIFIED:20260401T105704Z
UID:5964-1775473200-1775491200@castellodipoppi.it
SUMMARY:Tour del Castello di Poppi | 06/04/2026
DESCRIPTION:Tour dal Castello al Borgo | 01/08/2026				\n					\n				\n		\n				\n		\n		\n				\n									Data: 								\n				\n				\n					\n		\n			Agosto 1\n\n	\n\n	  @  \n\n\n16:00\n\n			\n				\n				\n				\n		\n				\n									Luogo: 								\n				\n				\n		\n				\n							\n			\n						\n		\n						\n				\n		\n		\n		\n				\n					Descrizione evento				\n				\n				\n					Visita guidata ore 16:00\nCosti: € 13\,00 adulti – € 7 bambini 6 – 12 anni\, incluso biglietto di ingresso.
URL:https://castellodipoppi.it/evento/tour-del-castello-di-poppi-06-04-2026/
END:VEVENT
BEGIN:VEVENT
DTSTART;TZID=UTC:20260308T110000
DTEND;TZID=UTC:20260308T110000
DTSTAMP:20260420T070646
CREATED:20260401T071714Z
LAST-MODIFIED:20260401T105656Z
UID:5961-1772967600-1772967600@castellodipoppi.it
SUMMARY:Medioevo al femminile | 08/03/2026
DESCRIPTION:Tour dal Castello al Borgo | 01/08/2026				\n					\n				\n		\n				\n		\n		\n				\n									Data: 								\n				\n				\n					\n		\n			Agosto 1\n\n	\n\n	  @  \n\n\n16:00\n\n			\n				\n				\n				\n		\n				\n									Luogo: 								\n				\n				\n		\n				\n							\n			\n						\n		\n						\n				\n		\n		\n		\n				\n					Descrizione evento				\n				\n				\n					Visita guidata ore 16:00\nCosti: € 13\,00 adulti – € 7 bambini 6 – 12 anni\, incluso biglietto di ingresso.
URL:https://castellodipoppi.it/evento/medioevo-al-femminile-08-03-2026/
END:VEVENT
END:VCALENDAR