BEGIN:VCALENDAR
VERSION:2.0
PRODID:-//Castello di Poppi - ECPv6.15.14//NONSGML v1.0//EN
CALSCALE:GREGORIAN
METHOD:PUBLISH
X-WR-CALNAME:Castello di Poppi
X-ORIGINAL-URL:https://castellodipoppi.it
X-WR-CALDESC:Eventi per Castello di Poppi
REFRESH-INTERVAL;VALUE=DURATION:PT1H
X-Robots-Tag:noindex
X-PUBLISHED-TTL:PT1H
BEGIN:VTIMEZONE
TZID:UTC
BEGIN:STANDARD
TZOFFSETFROM:+0000
TZOFFSETTO:+0000
TZNAME:UTC
DTSTART:20250101T000000
END:STANDARD
END:VTIMEZONE
BEGIN:VEVENT
DTSTART;TZID=UTC:20260814T210000
DTEND;TZID=UTC:20260814T210000
DTSTAMP:20260420T052353
CREATED:20260401T080552Z
LAST-MODIFIED:20260401T110117Z
UID:6005-1786741200-1786741200@castellodipoppi.it
SUMMARY:Il Castello delle Leggende | 14/08/2026
DESCRIPTION:Tour dal Castello al Borgo | 01/08/2026				\n					\n				\n		\n				\n		\n		\n				\n									Data: 								\n				\n				\n					\n		\n			Agosto 1\n\n	\n\n	  @  \n\n\n16:00\n\n			\n				\n				\n				\n		\n				\n									Luogo: 								\n				\n				\n		\n				\n							\n			\n						\n		\n						\n				\n		\n		\n		\n				\n					Descrizione evento				\n				\n				\n					Visita guidata ore 16:00\nCosti: € 13\,00 adulti – € 7 bambini 6 – 12 anni\, incluso biglietto di ingresso.
URL:https://castellodipoppi.it/evento/il-castello-delle-leggende-14-08-2026/
END:VEVENT
BEGIN:VEVENT
DTSTART;TZID=UTC:20260815T110000
DTEND;TZID=UTC:20260815T160000
DTSTAMP:20260420T052353
CREATED:20260401T080702Z
LAST-MODIFIED:20260401T110121Z
UID:6007-1786791600-1786809600@castellodipoppi.it
SUMMARY:Al Castello con Dante | 15/08/2026
DESCRIPTION:Tour dal Castello al Borgo | 01/08/2026				\n					\n				\n		\n				\n		\n		\n				\n									Data: 								\n				\n				\n					\n		\n			Agosto 1\n\n	\n\n	  @  \n\n\n16:00\n\n			\n				\n				\n				\n		\n				\n									Luogo: 								\n				\n				\n		\n				\n							\n			\n						\n		\n						\n				\n		\n		\n		\n				\n					Descrizione evento				\n				\n				\n					Visita guidata ore 16:00\nCosti: € 13\,00 adulti – € 7 bambini 6 – 12 anni\, incluso biglietto di ingresso.
URL:https://castellodipoppi.it/evento/al-castello-con-dante-15-08-2026/
END:VEVENT
BEGIN:VEVENT
DTSTART;TZID=UTC:20260816T110000
DTEND;TZID=UTC:20260816T160000
DTSTAMP:20260420T052353
CREATED:20260401T080900Z
LAST-MODIFIED:20260401T110127Z
UID:6009-1786878000-1786896000@castellodipoppi.it
SUMMARY:Tour del Castello di Poppi | 16/08/2026
DESCRIPTION:Tour dal Castello al Borgo | 01/08/2026				\n					\n				\n		\n				\n		\n		\n				\n									Data: 								\n				\n				\n					\n		\n			Agosto 1\n\n	\n\n	  @  \n\n\n16:00\n\n			\n				\n				\n				\n		\n				\n									Luogo: 								\n				\n				\n		\n				\n							\n			\n						\n		\n						\n				\n		\n		\n		\n				\n					Descrizione evento				\n				\n				\n					Visita guidata ore 16:00\nCosti: € 13\,00 adulti – € 7 bambini 6 – 12 anni\, incluso biglietto di ingresso.
URL:https://castellodipoppi.it/evento/tour-del-castello-di-poppi-16-08-2026/
END:VEVENT
BEGIN:VEVENT
DTSTART;TZID=UTC:20260822T160000
DTEND;TZID=UTC:20260822T160000
DTSTAMP:20260420T052353
CREATED:20260401T081006Z
LAST-MODIFIED:20260401T110135Z
UID:6011-1787414400-1787414400@castellodipoppi.it
SUMMARY:Tour dal Castello al Borgo | 22/08/2026
DESCRIPTION:Tour dal Castello al Borgo | 01/08/2026				\n					\n				\n		\n				\n		\n		\n				\n									Data: 								\n				\n				\n					\n		\n			Agosto 1\n\n	\n\n	  @  \n\n\n16:00\n\n			\n				\n				\n				\n		\n				\n									Luogo: 								\n				\n				\n		\n				\n							\n			\n						\n		\n						\n				\n		\n		\n		\n				\n					Descrizione evento				\n				\n				\n					Visita guidata ore 16:00\nCosti: € 13\,00 adulti – € 7 bambini 6 – 12 anni\, incluso biglietto di ingresso.
URL:https://castellodipoppi.it/evento/tour-dal-castello-al-borgo-22-08-2026/
END:VEVENT
BEGIN:VEVENT
DTSTART;TZID=UTC:20260823T110000
DTEND;TZID=UTC:20260823T160000
DTSTAMP:20260420T052353
CREATED:20260401T081112Z
LAST-MODIFIED:20260401T110140Z
UID:6013-1787482800-1787500800@castellodipoppi.it
SUMMARY:Tour del Castello di Poppi | 23/08/2026
DESCRIPTION:Tour dal Castello al Borgo | 01/08/2026				\n					\n				\n		\n				\n		\n		\n				\n									Data: 								\n				\n				\n					\n		\n			Agosto 1\n\n	\n\n	  @  \n\n\n16:00\n\n			\n				\n				\n				\n		\n				\n									Luogo: 								\n				\n				\n		\n				\n							\n			\n						\n		\n						\n				\n		\n		\n		\n				\n					Descrizione evento				\n				\n				\n					Visita guidata ore 16:00\nCosti: € 13\,00 adulti – € 7 bambini 6 – 12 anni\, incluso biglietto di ingresso.
URL:https://castellodipoppi.it/evento/tour-del-castello-di-poppi-23-08-2026/
END:VEVENT
BEGIN:VEVENT
DTSTART;TZID=UTC:20260830T110000
DTEND;TZID=UTC:20260830T160000
DTSTAMP:20260420T052353
CREATED:20260401T081208Z
LAST-MODIFIED:20260401T110144Z
UID:6015-1788087600-1788105600@castellodipoppi.it
SUMMARY:Tour del Castello di Poppi | 30/08/2026
DESCRIPTION:Tour dal Castello al Borgo | 01/08/2026				\n					\n				\n		\n				\n		\n		\n				\n									Data: 								\n				\n				\n					\n		\n			Agosto 1\n\n	\n\n	  @  \n\n\n16:00\n\n			\n				\n				\n				\n		\n				\n									Luogo: 								\n				\n				\n		\n				\n							\n			\n						\n		\n						\n				\n		\n		\n		\n				\n					Descrizione evento				\n				\n				\n					Visita guidata ore 16:00\nCosti: € 13\,00 adulti – € 7 bambini 6 – 12 anni\, incluso biglietto di ingresso.
URL:https://castellodipoppi.it/evento/tour-del-castello-di-poppi-30-08-2026/
END:VEVENT
END:VCALENDAR